BEGIN:VCALENDAR
VERSION:2.0
PRODID:-//Brentwood Chamber of Commerce - ECPv6.5.0.1//NONSGML v1.0//EN
CALSCALE:GREGORIAN
METHOD:PUBLISH
X-WR-CALNAME:Brentwood Chamber of Commerce
X-ORIGINAL-URL:https://brentwoodchamber.co.uk
X-WR-CALDESC:Events for Brentwood Chamber of Commerce
REFRESH-INTERVAL;VALUE=DURATION:PT1H
X-Robots-Tag:noindex
X-PUBLISHED-TTL:PT1H
BEGIN:VTIMEZONE
TZID:UTC
BEGIN:STANDARD
TZOFFSETFROM:+0000
TZOFFSETTO:+0000
TZNAME:UTC
DTSTART:20260101T000000
END:STANDARD
END:VTIMEZONE
BEGIN:VEVENT
DTSTART;VALUE=DATE:20260501
DTEND;VALUE=DATE:20260801
DTSTAMP:20260421T210953
CREATED:20260421T113447Z
LAST-MODIFIED:20260421T113447Z
UID:29267-1777593600-1785542399@brentwoodchamber.co.uk
SUMMARY:World Cup at The Holiday Inn
DESCRIPTION:HI Brentwood – World Cup \nJoin us at Holiday Inn Brentwood to watch the World Cup live!\nGet together with friends\, enjoy the atmosphere\, and don’t miss a\nmoment of the action on the big screen.\nTreat yourself to a USA style pizza and a pint of beer for just £20\,\navailable throughout the game. \nFind us: Brook St\, Brentwood CM14 5NF l Call us: 0371 942 9012
URL:https://brentwoodchamber.co.uk/event/world-cup-at-the-holiday-inn/
LOCATION:Holiday Inn Brentwood\, Brook Street\, Brentwood\, Essex\, CM145NF\, United Kingdom
CATEGORIES:Member Events
ATTACH;FMTTYPE=application/pdf:https://brentwoodchamber.co.uk/wp-content/uploads/2026/04/HI-Brentwood-World-Cup-1.pdf
ORGANIZER;CN="Holiday Inn":MAILTO:specialevents@hibrentwood.co.uk
END:VEVENT
END:VCALENDAR