BEGIN:VCALENDAR
VERSION:2.0
PRODID:-//Brentwood Chamber of Commerce - ECPv6.5.0.1//NONSGML v1.0//EN
CALSCALE:GREGORIAN
METHOD:PUBLISH
X-WR-CALNAME:Brentwood Chamber of Commerce
X-ORIGINAL-URL:https://brentwoodchamber.co.uk
X-WR-CALDESC:Events for Brentwood Chamber of Commerce
REFRESH-INTERVAL;VALUE=DURATION:PT1H
X-Robots-Tag:noindex
X-PUBLISHED-TTL:PT1H
BEGIN:VTIMEZONE
TZID:UTC
BEGIN:STANDARD
TZOFFSETFROM:+0000
TZOFFSETTO:+0000
TZNAME:UTC
DTSTART:20260101T000000
END:STANDARD
END:VTIMEZONE
BEGIN:VEVENT
DTSTART;TZID=UTC:20260621T100000
DTEND;TZID=UTC:20260621T120000
DTSTAMP:20260425T120504
CREATED:20260424T114116Z
LAST-MODIFIED:20260424T114116Z
UID:29305-1782036000-1782043200@brentwoodchamber.co.uk
SUMMARY:Stride to Stop SADS
DESCRIPTION:
URL:https://brentwoodchamber.co.uk/event/stride-to-stop-sads/
LOCATION:Kensington Palace Gardens\, London
CATEGORIES:Member Events
ATTACH;FMTTYPE=image/jpeg:https://brentwoodchamber.co.uk/wp-content/uploads/2026/04/STRIDE-To-STOP-SADS.jpg
ORGANIZER;CN="SADS UK":MAILTO:sadsoffice@sadsuk.org
END:VEVENT
END:VCALENDAR