BEGIN:VCALENDAR
VERSION:2.0
PRODID:-//Brentwood Chamber of Commerce - ECPv6.5.0.1//NONSGML v1.0//EN
CALSCALE:GREGORIAN
METHOD:PUBLISH
X-WR-CALNAME:Brentwood Chamber of Commerce
X-ORIGINAL-URL:https://brentwoodchamber.co.uk
X-WR-CALDESC:Events for Brentwood Chamber of Commerce
REFRESH-INTERVAL;VALUE=DURATION:PT1H
X-Robots-Tag:noindex
X-PUBLISHED-TTL:PT1H
BEGIN:VTIMEZONE
TZID:UTC
BEGIN:STANDARD
TZOFFSETFROM:+0000
TZOFFSETTO:+0000
TZNAME:UTC
DTSTART:20260101T000000
END:STANDARD
END:VTIMEZONE
BEGIN:VEVENT
DTSTART;TZID=UTC:20260620T133000
DTEND;TZID=UTC:20260620T163000
DTSTAMP:20260423T144019
CREATED:20260422T130109Z
LAST-MODIFIED:20260422T130109Z
UID:29298-1781962200-1781973000@brentwoodchamber.co.uk
SUMMARY:SNAP’s Mighty Mud Challenge
DESCRIPTION:SNAP’s Mighty Mud Challenge \nOvercoming obstacles together – for families who face them every day \nGet ready for a fun\, action-packed afternoon filled with mud\, obstacles and plenty of laughs\, all while raising vital funds to support SNAP and the families we work with across Essex. \nEscape the ordinary\, get outdoors\, and let your inner explorer free as you tackle muddy obstacles\, climbing walls\, slides and cargo nets\, finishing with the most renowned obstacle: the notorious ‘Deathslide’. \nWith 90 minutes on the clock\, can you complete SNAP’s Mighty Mud Challenge? \nThis event kicks off our SNAP Awareness Week on Saturday 20th June. Join members of the SNAP Team on the course with your family\, friends and office buddies. You can also take part on your own and make friends along the way while clambering over obstacles\, plunging into the water\, and getting plucked out of the mud. \nDate: Saturday 20th June\nTime: 1.30pm – 4.30pm\nLocation: Nuclear Wild Forest\, Nuclear Essex\, Ongar Road\, Kelvedon Hatch\, Brentwood\, CM15 0LA\nAdult: £30  Child: £20 \nFind out more and book your spot here: https://www.snapcharity.org/get-involved/mighty-mud/
URL:https://brentwoodchamber.co.uk/event/snaps-mighty-mud-challenge/
LOCATION:Nuclear Wild Forest Outdoor Activity Centre\, Parsonage Farm\, Kelvedon Hatch\, Essex\, CM15 0LA\, Afghanistan
CATEGORIES:Member Events
ATTACH;FMTTYPE=image/png:https://brentwoodchamber.co.uk/wp-content/uploads/2026/04/mighty-mud-bcc-384-x-250-px.png
END:VEVENT
END:VCALENDAR