BEGIN:VCALENDAR
VERSION:2.0
PRODID:-//Brentwood Chamber of Commerce - ECPv6.5.0.1//NONSGML v1.0//EN
CALSCALE:GREGORIAN
METHOD:PUBLISH
X-WR-CALNAME:Brentwood Chamber of Commerce
X-ORIGINAL-URL:https://brentwoodchamber.co.uk
X-WR-CALDESC:Events for Brentwood Chamber of Commerce
REFRESH-INTERVAL;VALUE=DURATION:PT1H
X-Robots-Tag:noindex
X-PUBLISHED-TTL:PT1H
BEGIN:VTIMEZONE
TZID:UTC
BEGIN:STANDARD
TZOFFSETFROM:+0000
TZOFFSETTO:+0000
TZNAME:UTC
DTSTART:20240101T000000
END:STANDARD
END:VTIMEZONE
BEGIN:VEVENT
DTSTART;TZID=UTC:20241018T190000
DTEND;TZID=UTC:20241018T230000
DTSTAMP:20260420T164859
CREATED:20240807T075623Z
LAST-MODIFIED:20240807T133359Z
UID:27376-1729278000-1729292400@brentwoodchamber.co.uk
SUMMARY:Phoenix FM Charity Race night for the Marillac
DESCRIPTION:Phoenix FM is organising a charity race night on behalf of Marillac at Warley Park Golf Club.   \nThis evening promises not only to be an incredible night of fun but also a meaningful way to support a great cause. \nPhoenix FM is offering heavily discounted campaign rates  providing a fantastic chance for businesses to gain exposure while making a significant impact in our community. \nTo book a table or tickets please email Steve Roach at Phoenix FM: sr@phoenixfm.com
URL:https://brentwoodchamber.co.uk/event/phoenix-fm-charity-race-night-for-the-marillac/
LOCATION:Warley Park Golf Club\, Magpie Lane\, Little Warley\, Brentwood\, CM13 3DX
CATEGORIES:Member Events
ATTACH;FMTTYPE=image/jpeg:https://brentwoodchamber.co.uk/wp-content/uploads/2024/08/marillac.png.jpg
END:VEVENT
END:VCALENDAR