BEGIN:VCALENDAR
VERSION:2.0
PRODID:-//Brentwood Chamber of Commerce - ECPv6.5.0.1//NONSGML v1.0//EN
CALSCALE:GREGORIAN
METHOD:PUBLISH
X-WR-CALNAME:Brentwood Chamber of Commerce
X-ORIGINAL-URL:https://brentwoodchamber.co.uk
X-WR-CALDESC:Events for Brentwood Chamber of Commerce
REFRESH-INTERVAL;VALUE=DURATION:PT1H
X-Robots-Tag:noindex
X-PUBLISHED-TTL:PT1H
BEGIN:VTIMEZONE
TZID:UTC
BEGIN:STANDARD
TZOFFSETFROM:+0000
TZOFFSETTO:+0000
TZNAME:UTC
DTSTART:20240101T000000
END:STANDARD
END:VTIMEZONE
BEGIN:VEVENT
DTSTART;TZID=UTC:20240522T100000
DTEND;TZID=UTC:20240522T113000
DTSTAMP:20260421T095011
CREATED:20240416T110419Z
LAST-MODIFIED:20240606T113341Z
UID:23867-1716372000-1716377400@brentwoodchamber.co.uk
SUMMARY:Members Training Programme - How to use Brentwood Open Facebook group to grow your business
DESCRIPTION:BOOK HERE
URL:https://brentwoodchamber.co.uk/event/members-training-programme-how-to-use-brentwood-open-to-grow-your-business/
LOCATION:Online workshop
CATEGORIES:Chamber Events
ATTACH;FMTTYPE=image/webp:https://brentwoodchamber.co.uk/wp-content/uploads/2024/04/Brentwood-Open-21-ezgif.com-resize.webp
END:VEVENT
END:VCALENDAR