BEGIN:VCALENDAR
VERSION:2.0
PRODID:-//Brentwood Chamber of Commerce - ECPv6.5.0.1//NONSGML v1.0//EN
CALSCALE:GREGORIAN
METHOD:PUBLISH
X-WR-CALNAME:Brentwood Chamber of Commerce
X-ORIGINAL-URL:https://brentwoodchamber.co.uk
X-WR-CALDESC:Events for Brentwood Chamber of Commerce
REFRESH-INTERVAL;VALUE=DURATION:PT1H
X-Robots-Tag:noindex
X-PUBLISHED-TTL:PT1H
BEGIN:VTIMEZONE
TZID:UTC
BEGIN:STANDARD
TZOFFSETFROM:+0000
TZOFFSETTO:+0000
TZNAME:UTC
DTSTART:20230101T000000
END:STANDARD
END:VTIMEZONE
BEGIN:VEVENT
DTSTART;TZID=UTC:20230914T190000
DTEND;TZID=UTC:20230914T223000
DTSTAMP:20260422T085900
CREATED:20230717T123916Z
LAST-MODIFIED:20230717T123916Z
UID:23161-1694718000-1694730600@brentwoodchamber.co.uk
SUMMARY:Kids Inspire County Business Quiz
DESCRIPTION:Pit your wits against Essex business brains to win The County Business Quiz Trophy.  \nThe night will be hosted by our Quiz Master\, BBC Essex’s Dave Monk. \nCost – £25pp\, which includes supper (teams of 6-8 people)
URL:https://brentwoodchamber.co.uk/event/kids-inspire-county-business-quiz/
LOCATION:Essex County Cricket\, New Writtle Street\, Chelmsford\, Essex\, CM2 0PG\, United Kingdom
CATEGORIES:Member Events
ATTACH;FMTTYPE=:
END:VEVENT
END:VCALENDAR