BEGIN:VCALENDAR
VERSION:2.0
PRODID:-//Brentwood Chamber of Commerce - ECPv6.5.0.1//NONSGML v1.0//EN
CALSCALE:GREGORIAN
METHOD:PUBLISH
X-WR-CALNAME:Brentwood Chamber of Commerce
X-ORIGINAL-URL:https://brentwoodchamber.co.uk
X-WR-CALDESC:Events for Brentwood Chamber of Commerce
REFRESH-INTERVAL;VALUE=DURATION:PT1H
X-Robots-Tag:noindex
X-PUBLISHED-TTL:PT1H
BEGIN:VTIMEZONE
TZID:UTC
BEGIN:STANDARD
TZOFFSETFROM:+0000
TZOFFSETTO:+0000
TZNAME:UTC
DTSTART:20260101T000000
END:STANDARD
END:VTIMEZONE
BEGIN:VEVENT
DTSTART;VALUE=DATE:20261128
DTEND;VALUE=DATE:20261220
DTSTAMP:20260422T120602
CREATED:20260421T114021Z
LAST-MODIFIED:20260421T114021Z
UID:29274-1795824000-1797724799@brentwoodchamber.co.uk
SUMMARY:Festive Party Nights at The Holiday Inn
DESCRIPTION:Festive Cheer A5 \nJoin the Holiday Inn 28th November – 19th December for festive party nights\, every Thursday\, Friday and Saturday. \nClick on link above for more details \nTo book\, email: specialevents@hibrentwood.co.uk
URL:https://brentwoodchamber.co.uk/event/festive-party-nights-at-the-holiday-inn/
LOCATION:Holiday Inn Brentwood\, Brook Street\, Brentwood\, Essex\, CM145NF\, United Kingdom
CATEGORIES:Member Events
ATTACH;FMTTYPE=application/pdf:https://brentwoodchamber.co.uk/wp-content/uploads/2026/04/Festive-Cheer-A5-2.pdf
ORGANIZER;CN="Holiday Inn":MAILTO:specialevents@hibrentwood.co.uk
END:VEVENT
END:VCALENDAR