BEGIN:VCALENDAR
VERSION:2.0
PRODID:-//Brentwood Chamber of Commerce - ECPv6.5.0.1//NONSGML v1.0//EN
CALSCALE:GREGORIAN
METHOD:PUBLISH
X-WR-CALNAME:Brentwood Chamber of Commerce
X-ORIGINAL-URL:https://brentwoodchamber.co.uk
X-WR-CALDESC:Events for Brentwood Chamber of Commerce
REFRESH-INTERVAL;VALUE=DURATION:PT1H
X-Robots-Tag:noindex
X-PUBLISHED-TTL:PT1H
BEGIN:VTIMEZONE
TZID:UTC
BEGIN:STANDARD
TZOFFSETFROM:+0000
TZOFFSETTO:+0000
TZNAME:UTC
DTSTART:20240101T000000
END:STANDARD
END:VTIMEZONE
BEGIN:VEVENT
DTSTART;TZID=UTC:20240510T133000
DTEND;TZID=UTC:20240510T153000
DTSTAMP:20260421T112504
CREATED:20240509T094338Z
LAST-MODIFIED:20240509T094521Z
UID:26055-1715347800-1715355000@brentwoodchamber.co.uk
SUMMARY:Example Event
DESCRIPTION:The Brentwood Chamber of Commerce is your go-to hub for all things business within Brentwood and beyond. We’re all about helping businesses of every size thrive\, connect\, and make a difference right here in Brentwood. \nSince our establishment\, we have served as a cornerstone for local businesses\, offering invaluable resources\, advocacy\, and networking opportunities. From networking events to educational workshops\, we provide the tools and support necessary for businesses within Brentwood and beyond.
URL:https://brentwoodchamber.co.uk/event/example-event/
LOCATION:Brentwood County High School\, Seven Arches Road\, Brentwood\, Essex\, CM14 4JF\, United Kingdom
CATEGORIES:Chamber Events
ATTACH;FMTTYPE=image/jpeg:https://brentwoodchamber.co.uk/wp-content/uploads/2024/05/b-wood-town-hall.jpg
END:VEVENT
END:VCALENDAR